BEGIN:VCALENDAR
VERSION:2.0
PRODID:-//#SpaceYaMagari - ECPv6.15.13//NONSGML v1.0//EN
CALSCALE:GREGORIAN
METHOD:PUBLISH
X-ORIGINAL-URL:https://spaceyamagari.com
X-WR-CALDESC:Events for #SpaceYaMagari
REFRESH-INTERVAL;VALUE=DURATION:PT1H
X-Robots-Tag:noindex
X-PUBLISHED-TTL:PT1H
BEGIN:VTIMEZONE
TZID:Europe/Moscow
BEGIN:STANDARD
TZOFFSETFROM:+0300
TZOFFSETTO:+0300
TZNAME:MSK
DTSTART:20220101T000000
END:STANDARD
END:VTIMEZONE
BEGIN:VEVENT
DTSTART;TZID=Europe/Moscow:20251129T080000
DTEND;TZID=Europe/Moscow:20251129T170000
DTSTAMP:20260424T183726
CREATED:20251109T202911Z
LAST-MODIFIED:20251109T202915Z
UID:10136-1764403200-1764435600@spaceyamagari.com
SUMMARY:AK FEST 2025
DESCRIPTION:Polite road trip. Park and chill\, overnight party and camping experience.
URL:https://spaceyamagari.com/event/ak-fest-2025/
LOCATION:Mimosa Park\, Sagana.
ATTACH;FMTTYPE=image/jpeg:https://spaceyamagari.com/wp-content/uploads/2025/11/767800589.jpg
END:VEVENT
BEGIN:VEVENT
DTSTART;TZID=Europe/Moscow:20231231T080000
DTEND;TZID=Europe/Moscow:20231231T210000
DTSTAMP:20260424T183726
CREATED:20230118T113238Z
LAST-MODIFIED:20230320T101218Z
UID:7257-1704009600-1704056400@spaceyamagari.com
SUMMARY:END YEAR PARTY/DRIVE
DESCRIPTION:Ladies and gents. Our official calender is out. Mark the dates. Come let’s vibe and have a good time \n\n\n\nPlease note that our Sunday Skool afternoon chillout vibes will still go on as well as random drives🤙 \n\n\n\nKind regards #wearethecarsandchrome #classiccarsinkenya #vintagecarsinkenya \n\n\n\nUtari – Chairman – 0710443420 \n\n\n\nPele – Events coordinator – 0719862145 \n\n\n\nOchi – Treasurer – 0710375238
URL:https://spaceyamagari.com/event/end-year-party-drive/
LOCATION:To be confirmed
ATTACH;FMTTYPE=image/jpeg:https://spaceyamagari.com/wp-content/uploads/2023/01/WhatsApp-Image-2023-01-18-at-14.00.44-1.jpeg
END:VEVENT
BEGIN:VEVENT
DTSTART;TZID=Europe/Moscow:20231209T080000
DTEND;TZID=Europe/Moscow:20231210T170000
DTSTAMP:20260424T183726
CREATED:20230320T115728Z
LAST-MODIFIED:20230320T115733Z
UID:8219-1702108800-1702227600@spaceyamagari.com
SUMMARY:NANYUKI DRIVE
DESCRIPTION:2023 MERCEDES ROAD WARRIORS NANYUKI DRIVE \n\n\n\nNairobi- Nanyuki Nanyuki – Nairobi
URL:https://spaceyamagari.com/event/nanyuki-drive/
ATTACH;FMTTYPE=image/jpeg:https://spaceyamagari.com/wp-content/uploads/2023/03/Lodwar-Lakeside-Drive.-2nd-to-4th-June.jpeg
END:VEVENT
BEGIN:VEVENT
DTSTART;TZID=Europe/Moscow:20231202T110000
DTEND;TZID=Europe/Moscow:20231202T220000
DTSTAMP:20260424T183726
CREATED:20230126T193417Z
LAST-MODIFIED:20230320T101323Z
UID:7406-1701514800-1701554400@spaceyamagari.com
SUMMARY:END OF YEAR PARTY
DESCRIPTION:Mbuzi Plan \n\n\n\nLocation TBC \n\n\n\nhttps://www.instagram.com/p/Cn3iimnNpDd/?utm_source=ig_web_copy_link
URL:https://spaceyamagari.com/event/end-of-year-party/
LOCATION:To be announced soon.
ATTACH;FMTTYPE=image/png:https://spaceyamagari.com/wp-content/uploads/2023/01/Mazda_atenzake.png
END:VEVENT
BEGIN:VEVENT
DTSTART;TZID=Europe/Moscow:20231118T080000
DTEND;TZID=Europe/Moscow:20231119T170000
DTSTAMP:20260424T183726
CREATED:20230915T101744Z
LAST-MODIFIED:20230915T101747Z
UID:9303-1700294400-1700413200@spaceyamagari.com
SUMMARY:Motorkhana
DESCRIPTION:View this post on Instagram
URL:https://spaceyamagari.com/event/motorkhana/
LOCATION:Naivasha Service Park
ATTACH;FMTTYPE=image/jpeg:https://spaceyamagari.com/wp-content/uploads/2023/09/Motorkhana.jpeg
END:VEVENT
BEGIN:VEVENT
DTSTART;TZID=Europe/Moscow:20231029T080000
DTEND;TZID=Europe/Moscow:20231029T170000
DTSTAMP:20260424T183726
CREATED:20230118T112338Z
LAST-MODIFIED:20230320T101430Z
UID:7255-1698566400-1698598800@spaceyamagari.com
SUMMARY:5TH ANNIVERSARY
DESCRIPTION:Ladies and gents. Our official calender is out. Mark the dates. Come let’s vibe and have a good time \n\n\n\nPlease note that our Sunday Skool afternoon chillout vibes will still go on as well as random drives🤙 \n\n\n\nKind regards #wearethecarsandchrome #classiccarsinkenya #vintagecarsinkenya \n\n\n\nUtari – Chairman – 0710443420 \n\n\n\nPele – Events coordinator – 0719862145 \n\n\n\nOchi – Treasurer – 0710375238
URL:https://spaceyamagari.com/event/5th-anniversary/
LOCATION:To be confirmed
ATTACH;FMTTYPE=image/jpeg:https://spaceyamagari.com/wp-content/uploads/2023/01/WhatsApp-Image-2023-01-18-at-14.00.44.jpeg
END:VEVENT
BEGIN:VEVENT
DTSTART;TZID=Europe/Moscow:20231021T100000
DTEND;TZID=Europe/Moscow:20231022T170000
DTSTAMP:20260424T183726
CREATED:20230915T134045Z
LAST-MODIFIED:20230915T134048Z
UID:9337-1697882400-1697994000@spaceyamagari.com
SUMMARY:Masinga TT - 10 Years Anniversary
DESCRIPTION:View this post on Instagram
URL:https://spaceyamagari.com/event/masinga-tt-10-years-anniversary/
LOCATION:Masinga Dam Resort
ATTACH;FMTTYPE=image/jpeg:https://spaceyamagari.com/wp-content/uploads/2023/09/Masinga-TT.jpeg
END:VEVENT
BEGIN:VEVENT
DTSTART;TZID=Europe/Moscow:20231020T080000
DTEND;TZID=Europe/Moscow:20231020T170000
DTSTAMP:20260424T183726
CREATED:20230915T132232Z
LAST-MODIFIED:20230915T132234Z
UID:9326-1697788800-1697821200@spaceyamagari.com
SUMMARY:White Cane Drive
DESCRIPTION:Johari seeks to Empower young visually impaired kids. Sponsor 300 white canes @1000 each. Illuminate their paths\, fostering independence\, safety and joy. Join us in making a meaningful difference. \n\n\n\n\nBei ya fuel wueh machos tu but we still have the #WhiteCaneDrive  to Meru this time Till 8007424 to impact lives pic.twitter.com/C2bUag9wku — Julio🦯 (@JSupercharge) September 15\, 2023
URL:https://spaceyamagari.com/event/white-cane-drive/
ATTACH;FMTTYPE=image/jpeg:https://spaceyamagari.com/wp-content/uploads/2023/09/White-Cane-Drive.jpeg
END:VEVENT
BEGIN:VEVENT
DTSTART;TZID=Europe/Moscow:20231019T080000
DTEND;TZID=Europe/Moscow:20231022T220000
DTSTAMP:20260424T183726
CREATED:20230126T192736Z
LAST-MODIFIED:20230320T101551Z
UID:7403-1697702400-1698012000@spaceyamagari.com
SUMMARY:LONG DRIVE (DIANI)
DESCRIPTION:• Villa Madhari \n\n\n\n• Unwinding \n\n\n\nhttps://www.instagram.com/p/Cn3iimnNpDd/?utm_source=ig_web_copy_link
URL:https://spaceyamagari.com/event/long-drive-diani/
LOCATION:To be announced soon.
ATTACH;FMTTYPE=image/png:https://spaceyamagari.com/wp-content/uploads/2023/01/Mazda_atenzake.png
END:VEVENT
BEGIN:VEVENT
DTSTART;TZID=Europe/Moscow:20231007T080000
DTEND;TZID=Europe/Moscow:20231010T170000
DTSTAMP:20260424T183726
CREATED:20230320T115110Z
LAST-MODIFIED:20230320T115114Z
UID:8216-1696665600-1696957200@spaceyamagari.com
SUMMARY:COAST DRIVE
DESCRIPTION:2023 MERCEDES ROAD WARRIORS COAST DRIVE \n\n\n\nNairobi- Mwingi-Garissa- Hola – Malindi Malindi- Kilifi- Mombasa- Voi- Nairobi
URL:https://spaceyamagari.com/event/coast-drive/
ATTACH;FMTTYPE=image/jpeg:https://spaceyamagari.com/wp-content/uploads/2023/03/Lodwar-Lakeside-Drive.-2nd-to-4th-June.jpeg
END:VEVENT
BEGIN:VEVENT
DTSTART;TZID=Europe/Moscow:20231001T080000
DTEND;TZID=Europe/Moscow:20231001T170000
DTSTAMP:20260424T183726
CREATED:20230915T112009Z
LAST-MODIFIED:20230915T112153Z
UID:9320-1696147200-1696179600@spaceyamagari.com
SUMMARY:Car & Meet 11 - Nomad Nation
DESCRIPTION:Kitted Edition \n\n\n\n\n🌟 Nomad Nation Car & Travel Meet II – The Kitted Edition is back on Sunday\, October 1st\, 2023!🎟 Get your tickets to the ultimate adventure at Mookh! Don't miss out on the fun – grab your tickets here: https://t.co/VXAbNiwRIo https://t.co/844XDzYpe7 pic.twitter.com/wPJuhYOTS5 — The Mara Nomads (@MaraNomads) September 12\, 2023
URL:https://spaceyamagari.com/event/car-meet-11-nomad-nation/
LOCATION:Rimpa Estates Wildlife Conservancy\, Kiserian
ATTACH;FMTTYPE=image/jpeg:https://spaceyamagari.com/wp-content/uploads/2023/09/Nomad-Nation.jpeg
END:VEVENT
BEGIN:VEVENT
DTSTART;TZID=Europe/Moscow:20230924T120000
DTEND;TZID=Europe/Moscow:20230924T220000
DTSTAMP:20260424T183726
CREATED:20230915T133222Z
LAST-MODIFIED:20230915T133225Z
UID:9331-1695556800-1695592800@spaceyamagari.com
SUMMARY:Tuner Motorshow Event
DESCRIPTION:Rev up your engines!The wait is finally over. Al-husnain Motors proudly present “THE TUNER FESTIVAL 3.0: Monalisa Homecoming Edition” – the ultimate celebration of automotive passion! \n\n\n\nJoin us as we ignite the streets and showcase the hottest rides in town\, at the most anticipated motorshow of the year. In collaboration with our incredible partners\, @spottergang254 (https://www.instagram.com/spottergang254/)\, we’re taking car culture to a whole new level! \n\n\n\nMark your calendars for Sunday 24th September 2023 at KICC and get ready to immerse yourself in a world of high-performance vehicles\, jaw-dropping modifications\, mingle with fellow gearheads\, and experience the electrifying atmosphere of our buzzing community. \n\n\n\nThis year’s Tuner Festival promises to be our biggest and best yet. The new location also accommodates a total of 250 cars\, we now have 100 more car slots for registration. Expect nothing short of awe-inspiring stunts\, spine-tingling exhaust notes\, and the chance to witness the creativity and artistry behind the car culture in Kenya. Don’t miss your chance to be part of this motorshow that everyone’s talking about. \n\n\n\nVisit M-tickets.com for your tickets. Early bird go for 900 Kenya shillings\, Advance tickets go for 1\,000 kenya shillings and 1\,500 kenya shillings at the gate. \n\n\n\n\n        View this post on Instagram
URL:https://spaceyamagari.com/event/tuner-motorshow-event/
LOCATION:KICC
ATTACH;FMTTYPE=image/jpeg:https://spaceyamagari.com/wp-content/uploads/2023/09/Tuner-Motorshow.jpeg
END:VEVENT
BEGIN:VEVENT
DTSTART;TZID=Europe/Moscow:20230917T100000
DTEND;TZID=Europe/Moscow:20230917T170000
DTSTAMP:20260424T183726
CREATED:20230915T094629Z
LAST-MODIFIED:20230915T095138Z
UID:9290-1694944800-1694970000@spaceyamagari.com
SUMMARY:Kenya National Motorcross Championship!!
DESCRIPTION:Back and ready for Round 6 of the Kenya National Motorcross Championship!! \n\n\n\nAdults – Ksh.400 \n\n\n\nKids – Ksh.300 \n\n\n\n\n        View this post on Instagram
URL:https://spaceyamagari.com/event/kenya-national-motorcross-championship/
LOCATION:Jamhuri Track\, Nairobi
ATTACH;FMTTYPE=image/jpeg:https://spaceyamagari.com/wp-content/uploads/2023/09/Kenya-National-Motorcross-Championship.jpeg
END:VEVENT
BEGIN:VEVENT
DTSTART;TZID=Europe/Moscow:20230917T080000
DTEND;TZID=Europe/Moscow:20230917T180000
DTSTAMP:20260424T183726
CREATED:20230915T100642Z
LAST-MODIFIED:20230915T100645Z
UID:9299-1694937600-1694973600@spaceyamagari.com
SUMMARY:Delta  Motorsports Track Attack
DESCRIPTION:Deltamotorsportsclub Next leg of the tarmac championship is all set \n\n\n\nWho will take the AWD and 2WD podium this time round? \n\n\n\n\n        View this post on Instagram
URL:https://spaceyamagari.com/event/delta-motorsports-track-attack/
LOCATION:Whistling Moran
ATTACH;FMTTYPE=image/jpeg:https://spaceyamagari.com/wp-content/uploads/2023/09/Delta-Motorsports-Track-Attack.jpeg
END:VEVENT
BEGIN:VEVENT
DTSTART;TZID=Europe/Moscow:20230916T150000
DTEND;TZID=Europe/Moscow:20230916T190000
DTSTAMP:20260424T183726
CREATED:20230915T105551Z
LAST-MODIFIED:20230915T105554Z
UID:9314-1694876400-1694890800@spaceyamagari.com
SUMMARY:Sarit Expo - NCBA KMI Motorshow
DESCRIPTION:Ladies and Gentlemen\, we will be LIVE at NCBAKMIMotorshow2023 on Saturday. \n\n\n\n\n        View this post on Instagram
URL:https://spaceyamagari.com/event/sarit-expo-ncba-kmi-motorshow/
LOCATION:Sarit Expo Centre
ATTACH;FMTTYPE=image/jpeg:https://spaceyamagari.com/wp-content/uploads/2023/09/Sarit-Expo.jpeg
END:VEVENT
BEGIN:VEVENT
DTSTART;TZID=Europe/Moscow:20230916T080000
DTEND;TZID=Europe/Moscow:20230916T170000
DTSTAMP:20260424T183726
CREATED:20230915T103702Z
LAST-MODIFIED:20230915T103704Z
UID:9308-1694851200-1694883600@spaceyamagari.com
SUMMARY:Vaibuu Run
DESCRIPTION:Check check Mark your calendars 16.09.2023 for Vaibuu Run Edition  \n\n\n\n\n        View this post on Instagram
URL:https://spaceyamagari.com/event/vaibuu-run/
LOCATION:Burudani Adventures Park Tigoni
ATTACH;FMTTYPE=image/jpeg:https://spaceyamagari.com/wp-content/uploads/2023/09/Vaibuu-Run.jpeg
END:VEVENT
BEGIN:VEVENT
DTSTART;TZID=Europe/Moscow:20230910T130000
DTEND;TZID=Europe/Moscow:20230910T210000
DTSTAMP:20260424T183726
CREATED:20230910T142251Z
LAST-MODIFIED:20230910T142253Z
UID:9259-1694350800-1694379600@spaceyamagari.com
SUMMARY:Meet And Greet
DESCRIPTION:Join us for a Meet and Greet . \n\n\n\nMusic By:Dj Dubb . \n\n\n\nFood and Drinks will be available at affordable prices . \n\n\n\nNo Food and Drinks from outside allowed. \n\n\n\nFree
URL:https://spaceyamagari.com/event/meet-and-greet-2/
LOCATION:Labona Pronto  UPPERHILL OFF HOSPITAL ROAD\, NEXT TO KASNEB TOWERS
ATTACH;FMTTYPE=image/jpeg:https://spaceyamagari.com/wp-content/uploads/2023/09/WhatsApp-Image-2023-09-08-at-13.08.44.jpeg
END:VEVENT
BEGIN:VEVENT
DTSTART;TZID=Europe/Moscow:20230827T080000
DTEND;TZID=Europe/Moscow:20230827T210000
DTSTAMP:20260424T183726
CREATED:20230118T111620Z
LAST-MODIFIED:20230320T101708Z
UID:7253-1693123200-1693170000@spaceyamagari.com
SUMMARY:NAIROBI - NAMANGA CHARITY DRIVE
DESCRIPTION:Ladies and gents. Our official calender is out. Mark the dates. Come let’s vibe and have a good time \n\n\n\nPlease note that our Sunday Skool afternoon chillout vibes will still go on as well as random drives🤙 \n\n\n\nKind regards #wearethecarsandchrome #classiccarsinkenya #vintagecarsinkenya \n\n\n\nUtari – Chairman – 0710443420 \n\n\n\nPele – Events coordinator – 0719862145 \n\n\n\nOchi – Treasurer – 0710375238
URL:https://spaceyamagari.com/event/nairobi-namanga-charity-drive/
LOCATION:To be confirmed
ATTACH;FMTTYPE=image/jpeg:https://spaceyamagari.com/wp-content/uploads/2023/01/WhatsApp-Image-2023-01-18-at-14.00.44.jpeg
END:VEVENT
BEGIN:VEVENT
DTSTART;TZID=Europe/Moscow:20230826T080000
DTEND;TZID=Europe/Moscow:20230826T170000
DTSTAMP:20260424T183726
CREATED:20230126T192202Z
LAST-MODIFIED:20230320T101841Z
UID:7401-1693036800-1693069200@spaceyamagari.com
SUMMARY:LONG DRIVE (BARINGO)
DESCRIPTION:Fun drive \n\n\n\nhttps://www.instagram.com/p/Cn3iimnNpDd/?utm_source=ig_web_copy_link
URL:https://spaceyamagari.com/event/long-drive-baringo/
LOCATION:To be announced soon.
ATTACH;FMTTYPE=image/png:https://spaceyamagari.com/wp-content/uploads/2023/01/Mazda_atenzake.png
END:VEVENT
BEGIN:VEVENT
DTSTART;TZID=Europe/Moscow:20230716T090000
DTEND;TZID=Europe/Moscow:20230716T170000
DTSTAMP:20260424T183726
CREATED:20230314T113045Z
LAST-MODIFIED:20230320T102857Z
UID:8062-1689498000-1689526800@spaceyamagari.com
SUMMARY:RACE 2: HEAD TO HEAD
DESCRIPTION:Race season is back!!!Here are our provisional dates for our 2023 main events. \n\n\n\nSave the dates. Prepare early. Let’s have some fun this Year. \n\n\n\nhttps://www.instagram.com/p/Corb1n-IZVp/?igshid=YmMyMTA2M2Y=
URL:https://spaceyamagari.com/event/race-2-head-to-head/
LOCATION:Naivasha WRC Service Park
ATTACH;FMTTYPE=image/jpeg:https://spaceyamagari.com/wp-content/uploads/2023/03/Head-to-Head.16th-July-1.jpeg
END:VEVENT
BEGIN:VEVENT
DTSTART;TZID=Europe/Moscow:20230715T080000
DTEND;TZID=Europe/Moscow:20230716T170000
DTSTAMP:20260424T183726
CREATED:20230320T112547Z
LAST-MODIFIED:20230320T112552Z
UID:8203-1689408000-1689526800@spaceyamagari.com
SUMMARY:THE AUTO SHOW - KAMPALA
DESCRIPTION:The Auto Show Kampala is back\, bigger & better\, from 15th – 16th July 2023 at Kololo Independence Grounds. \n\n\n\nEverything automotive. \n\n\n\nhttps://twitter.com/GermaxASGarage/status/1627573857157582854?t=pntZzcuzS-0bxM_C_Xr5NA&s=19
URL:https://spaceyamagari.com/event/the-auto-show-kampala/
LOCATION:Kololo Independence Grounds.
ATTACH;FMTTYPE=image/jpeg:https://spaceyamagari.com/wp-content/uploads/2023/03/Auto-show-Kampala.15th-to-16th-July.jpeg
END:VEVENT
BEGIN:VEVENT
DTSTART;TZID=Europe/Moscow:20230702T000000
DTEND;TZID=Europe/Moscow:20230702T220000
DTSTAMP:20260424T183726
CREATED:20230615T083109Z
LAST-MODIFIED:20230615T083357Z
UID:8728-1688256000-1688335200@spaceyamagari.com
SUMMARY:THE URBAN RETRO FESTIVAL 3.0
DESCRIPTION:URBAN RETRO FESTIVAL is a well-organized weekend event and social Hub that consists of a good blend of Kenyan Music from the best upcoming DJs in Kenya\, Barbecue and food from selected vendors\, Drinks from Space X Lounge\, Sip and Paint\, Amusement Park games and activities\, fun board games that you can enjoy with friends\, Art activities\, Fashion\, and photography.Additionally\, we also have a Motor- Show that consists of a display of unique classics\, bikes\, mid-aged and modern performance\, and high-end luxury cars all in one place! \n\n\n\n\nSo what makes Urban Retro Festival so unique as compared to other car enthusiast events/ motor shows? Thread pic.twitter.com/qNQfHNWGgH — URBAN RETRO FESTIVAL KE. (@urbanretro_ke) May 23\, 2023\n\n\n\n\nThis is an event that you will definitely enjoy whether as a petrolhead\, music lover\, art lover\, fashion lover\, or a combination of all\, or better yet if you are just looking out for a Sunday Afternoon plan to enjoy with a couple of friends and family. The URBAN RETRO FESTIVAL experience and family await you! \n\n\n\n\n\n\n\n\n\n\n\n\n\n\n\n\n\n\n\n\n\n\n\n\n\nHere are a few shots from previous editions by https://kigonyiwanduthi.pixieset.com/urbanretro/
URL:https://spaceyamagari.com/event/the-urban-retro-festival-3-0/
ATTACH;FMTTYPE=image/png:https://spaceyamagari.com/wp-content/uploads/2023/06/image-6.png
END:VEVENT
BEGIN:VEVENT
DTSTART;TZID=Europe/Moscow:20230701T080000
DTEND;TZID=Europe/Moscow:20230701T170000
DTSTAMP:20260424T183726
CREATED:20230126T191455Z
LAST-MODIFIED:20230320T102006Z
UID:7396-1688198400-1688230800@spaceyamagari.com
SUMMARY:SHORT DRIVE(SAGANA)
DESCRIPTION:Sagana Rapids \n\n\n\nhttps://www.instagram.com/p/Cn3iimnNpDd/?utm_source=ig_web_copy_link
URL:https://spaceyamagari.com/event/short-drive-sagana/
LOCATION:To be announced soon.
ATTACH;FMTTYPE=image/png:https://spaceyamagari.com/wp-content/uploads/2023/01/Mazda_atenzake.png
END:VEVENT
BEGIN:VEVENT
DTSTART;TZID=Europe/Moscow:20230618T080000
DTEND;TZID=Europe/Moscow:20230618T190000
DTSTAMP:20260424T183726
CREATED:20230616T072756Z
LAST-MODIFIED:20230616T072808Z
UID:8743-1687075200-1687114800@spaceyamagari.com
SUMMARY:Sleek SuperBike Series. Round 2
DESCRIPTION:Time for an adrenaline-packed weekend. Who crosses the finish line fast and first?  \n\n\n\nEast and Central Africa’s Premier Motorcycle Racing Championship round 2 takes place on the 18th of June this Sunday at the whistling morans\, brought to you by Sleek Motorsports Africa and sleek trading ltdAn event featuring leading superbike champions and racers\, thrilling performances\, Supporting and growing the sport and the racers\, Aiming to take it to great levels in the Motorcycle racing world. \n\n\n\nRaces from Categories as low as 100cc bikes to 1000cc bikes breaking records and creating history\, performances and stunt shows by our lead superbike champions\, upbeat music by our exclusive DJs\, variety of foods and vendors present with a touch of exceptional value and Opportunities to interact with the racers and sponsors. Defined by unity and burning talent. \n\n\n\nGet your tickets through the USSD code: 229*7# or visit events.mtickets.com
URL:https://spaceyamagari.com/event/sleek-superbike-series-round-2/
ATTACH;FMTTYPE=image/jpeg:https://spaceyamagari.com/wp-content/uploads/2023/06/WhatsApp-Image-2023-06-15-at-1.37.14-PM-2.jpeg
END:VEVENT
BEGIN:VEVENT
DTSTART;TZID=Europe/Moscow:20230604T080000
DTEND;TZID=Europe/Moscow:20230604T170000
DTSTAMP:20260424T183726
CREATED:20230118T111238Z
LAST-MODIFIED:20230320T102159Z
UID:7251-1685865600-1685898000@spaceyamagari.com
SUMMARY:RANDOM DRIVE
DESCRIPTION:Ladies and gents. Our official calender is out. Mark the dates. Come let’s vibe and have a good time \n\n\n\nPlease note that our Sunday Skool afternoon chillout vibes will still go on as well as random drives🤙 \n\n\n\nKind regards #wearethecarsandchrome #classiccarsinkenya #vintagecarsinkenya \n\n\n\nUtari – Chairman – 0710443420 \n\n\n\nPele – Events coordinator – 0719862145 \n\n\n\nOchi – Treasurer – 0710375238
URL:https://spaceyamagari.com/event/random-drive/
LOCATION:To be confirmed
ATTACH;FMTTYPE=image/jpeg:https://spaceyamagari.com/wp-content/uploads/2023/01/WhatsApp-Image-2023-01-18-at-14.00.44.jpeg
END:VEVENT
BEGIN:VEVENT
DTSTART;TZID=Europe/Moscow:20230602T080000
DTEND;TZID=Europe/Moscow:20230604T170000
DTSTAMP:20260424T183726
CREATED:20230320T114523Z
LAST-MODIFIED:20230320T114529Z
UID:8210-1685692800-1685898000@spaceyamagari.com
SUMMARY:LODWAR LAKESIDE DRIVE
DESCRIPTION:2023 MERCEDES ROAD WARRIORS LODWAR LAKESIDE DRIVE \n\n\n\nNairobi-Nakuru-Ravine- Eldoret- \n\n\n\nKitale- Kapenguria Lodwar Lodwar-Kapenguria- Kitale- Bungoma Mumias- Luanda – Kisumu-Kisii – Nairobi
URL:https://spaceyamagari.com/event/lodwar-lakeside-drive/
ATTACH;FMTTYPE=image/jpeg:https://spaceyamagari.com/wp-content/uploads/2023/03/Lodwar-Lakeside-Drive.-2nd-to-4th-June.jpeg
END:VEVENT
BEGIN:VEVENT
DTSTART;TZID=Europe/Moscow:20230429T080000
DTEND;TZID=Europe/Moscow:20230501T170000
DTSTAMP:20260424T183726
CREATED:20230126T190542Z
LAST-MODIFIED:20230320T104426Z
UID:7391-1682755200-1682960400@spaceyamagari.com
SUMMARY:LONG DRIVE (CSR EVENT) - MERU
DESCRIPTION:Route: NRB – Meru – Nanyuki – NRB \n\n\n\nPhotoshoot Mt. Ololokwe \n\n\n\nhttps://www.instagram.com/p/Cn3iimnNpDd/?utm_source=ig_web_copy_link
URL:https://spaceyamagari.com/event/long-drive-csr-event-meru-mazda_atenzake/
LOCATION:Meru
ATTACH;FMTTYPE=image/png:https://spaceyamagari.com/wp-content/uploads/2023/01/Mazda_atenzake.png
END:VEVENT
BEGIN:VEVENT
DTSTART;TZID=Europe/Moscow:20230429T080000
DTEND;TZID=Europe/Moscow:20230430T080000
DTSTAMP:20260424T183726
CREATED:20230320T093553Z
LAST-MODIFIED:20230329T140716Z
UID:8161-1682755200-1682841600@spaceyamagari.com
SUMMARY:SUNSET CORSA
DESCRIPTION:Sunset Corsa Stage One Nyahururu Airstrip | 29th -30th April2023. Confirmed.Sunset Corsa can 2023 season will consist of 3 stage races in different locations. That means the season will kick off Nyahururu Airstrip on April 29th & 30th\, and finish up in on November for the final Championship Winner in Garage And Driver recognition
URL:https://spaceyamagari.com/event/sunset-corsa/
LOCATION:Nyahururu Airstrip
ATTACH;FMTTYPE=image/jpeg:https://spaceyamagari.com/wp-content/uploads/2023/03/Sunset-Corsa.jpeg
END:VEVENT
BEGIN:VEVENT
DTSTART;TZID=Europe/Moscow:20230416T070000
DTEND;TZID=Europe/Moscow:20230416T170000
DTSTAMP:20260424T183726
CREATED:20230320T110634Z
LAST-MODIFIED:20230320T110646Z
UID:8198-1681628400-1681664400@spaceyamagari.com
SUMMARY:NYERI CHARITY DRIVE
DESCRIPTION:Meeting point: Delmonte past Blue Post\,Time 7:00amDonations: water tank\, food stuffs\, clothes\, staionaries\, sanitary pads \n\n\n\nFor more information: \n\n\n\n0740-194-299 \n\n\n\nLocated Nyeri Karatina road on your way to nairobi. \n\n\n\nOpposite wambugu agricultural institute just 5 kilometres to Nyeri town.
URL:https://spaceyamagari.com/event/nyeri-charity-drive/
LOCATION:Meeting Point: Delmonte\, Past Blue Post | Time: 7:00am
ATTACH;FMTTYPE=image/jpeg:https://spaceyamagari.com/wp-content/uploads/2023/03/Nyeri-Charity-Drive.16th-April.jpeg
END:VEVENT
BEGIN:VEVENT
DTSTART;TZID=Europe/Moscow:20230409T080000
DTEND;TZID=Europe/Moscow:20230409T170000
DTSTAMP:20260424T183726
CREATED:20230118T110713Z
LAST-MODIFIED:20230320T104537Z
UID:7248-1681027200-1681059600@spaceyamagari.com
SUMMARY:CHARITY DRIVE
DESCRIPTION:Ladies and gents. Our official calender is out. Mark the dates. Come let’s vibe and have a good time \n\n\n\nPlease note that our Sunday Skool afternoon chillout vibes will still go on as well as random drives🤙 \n\n\n\nKind regards #wearethecarsandchrome #classiccarsinkenya #vintagecarsinkenya \n\n\n\nUtari – Chairman – 0710443420 \n\n\n\nPele – Events coordinator – 0719862145 \n\n\n\nOchi – Treasurer – 0710375238
URL:https://spaceyamagari.com/event/charity-drive/
LOCATION:To be confirmed
ATTACH;FMTTYPE=image/jpeg:https://spaceyamagari.com/wp-content/uploads/2023/01/WhatsApp-Image-2023-01-18-at-14.00.44.jpeg
END:VEVENT
END:VCALENDAR